BEGIN:VCALENDAR
VERSION:2.0
PRODID:-//Wenke Greenhouses - ECPv6.15.20//NONSGML v1.0//EN
CALSCALE:GREGORIAN
METHOD:PUBLISH
X-ORIGINAL-URL:https://wenkegardencenter.com
X-WR-CALDESC:Events for Wenke Greenhouses
REFRESH-INTERVAL;VALUE=DURATION:PT1H
X-Robots-Tag:noindex
X-PUBLISHED-TTL:PT1H
BEGIN:VTIMEZONE
TZID:America/Detroit
BEGIN:DAYLIGHT
TZOFFSETFROM:-0500
TZOFFSETTO:-0400
TZNAME:EDT
DTSTART:20230312T070000
END:DAYLIGHT
BEGIN:STANDARD
TZOFFSETFROM:-0400
TZOFFSETTO:-0500
TZNAME:EST
DTSTART:20231105T060000
END:STANDARD
BEGIN:DAYLIGHT
TZOFFSETFROM:-0500
TZOFFSETTO:-0400
TZNAME:EDT
DTSTART:20240310T070000
END:DAYLIGHT
BEGIN:STANDARD
TZOFFSETFROM:-0400
TZOFFSETTO:-0500
TZNAME:EST
DTSTART:20241103T060000
END:STANDARD
BEGIN:DAYLIGHT
TZOFFSETFROM:-0500
TZOFFSETTO:-0400
TZNAME:EDT
DTSTART:20250309T070000
END:DAYLIGHT
BEGIN:STANDARD
TZOFFSETFROM:-0400
TZOFFSETTO:-0500
TZNAME:EST
DTSTART:20251102T060000
END:STANDARD
END:VTIMEZONE
BEGIN:VEVENT
DTSTART;TZID=America/Detroit:20240413T100000
DTEND;TZID=America/Detroit:20240413T110000
DTSTAMP:20260421T040443
CREATED:20240409T175346Z
LAST-MODIFIED:20240409T181223Z
UID:38501-1713002400-1713006000@wenkegardencenter.com
SUMMARY:Wenke Greenhouses Production Tour 4/13/24 10:00 am
DESCRIPTION:Ready for a taste of spring? Join us for a free tour of our 18-acre production greenhouse. See how we sow and germinate the seeds\, transplant into pots and baskets and grow the beautiful plants you see at our retail store. The walking tour takes about an hour and it’s all indoors so no need to worry about the weather. Families\, gardeners and all interested people are welcome to join us. \nThe production greenhouse is located at 2525 North 30th Street\, Kalamazoo\, MI 49048. We’re close to Echo Valley and Robert Morris Park. \nPlease be sure to wear comfortable shoes as this walking tour is on cement floors. \nSign up for our free tour here https://buytickets.at/wenkegreenhouses/1150057
URL:https://wenkegardencenter.com/event/wenke-greenhouses-production-tour/
LOCATION:2525 N 30th St\, 2525 N 30th St\, Kalamazoo\, MI\, 49048\, United States
CATEGORIES:Events,Events and Workshops
ATTACH;FMTTYPE=image/jpeg:https://wenkegardencenter.com/wp-content/uploads/2023/03/36353_image_original.jpg
END:VEVENT
BEGIN:VEVENT
DTSTART;TZID=America/Detroit:20240413T123000
DTEND;TZID=America/Detroit:20240413T133000
DTSTAMP:20260421T040443
CREATED:20240409T175833Z
LAST-MODIFIED:20240409T180937Z
UID:38504-1713011400-1713015000@wenkegardencenter.com
SUMMARY:Wenke Greenhouses Production Tour  4/13/24 12:30 pm
DESCRIPTION:Ready for a taste of spring? Join us for a free tour of our 18-acre production greenhouse. See how we sow and germinate the seeds\, transplant into pots and baskets and grow the beautiful plants you see at our retail store. The walking tour takes about an hour and it’s all indoors so no need to worry about the weather. Families\, gardeners and all interested people are welcome to join us. \nThe production greenhouse is located at 2525 North 30th Street\, Kalamazoo\, MI 49048. We’re close to Echo Valley and Robert Morris Park. \nPlease be sure to wear comfortable shoes as this walking tour is on cement floors. \nReserve your free tickets here https://buytickets.at/wenkegreenhouses/1150075 
URL:https://wenkegardencenter.com/event/wenke-greenhouses-production-tour-4-13-24-1230-pm/
LOCATION:2525 N 30th St\, 2525 N 30th St\, Kalamazoo\, MI\, 49048\, United States
CATEGORIES:Events,Events and Workshops
ATTACH;FMTTYPE=image/jpeg:https://wenkegardencenter.com/wp-content/uploads/2023/03/36353_image_original.jpg
END:VEVENT
END:VCALENDAR