BEGIN:VCALENDAR
VERSION:2.0
PRODID:-//Wenke Greenhouses - ECPv6.15.20//NONSGML v1.0//EN
CALSCALE:GREGORIAN
METHOD:PUBLISH
X-ORIGINAL-URL:https://wenkegardencenter.com
X-WR-CALDESC:Events for Wenke Greenhouses
REFRESH-INTERVAL;VALUE=DURATION:PT1H
X-Robots-Tag:noindex
X-PUBLISHED-TTL:PT1H
BEGIN:VTIMEZONE
TZID:America/Detroit
BEGIN:DAYLIGHT
TZOFFSETFROM:-0500
TZOFFSETTO:-0400
TZNAME:EDT
DTSTART:20230312T070000
END:DAYLIGHT
BEGIN:STANDARD
TZOFFSETFROM:-0400
TZOFFSETTO:-0500
TZNAME:EST
DTSTART:20231105T060000
END:STANDARD
BEGIN:DAYLIGHT
TZOFFSETFROM:-0500
TZOFFSETTO:-0400
TZNAME:EDT
DTSTART:20240310T070000
END:DAYLIGHT
BEGIN:STANDARD
TZOFFSETFROM:-0400
TZOFFSETTO:-0500
TZNAME:EST
DTSTART:20241103T060000
END:STANDARD
BEGIN:DAYLIGHT
TZOFFSETFROM:-0500
TZOFFSETTO:-0400
TZNAME:EDT
DTSTART:20250309T070000
END:DAYLIGHT
BEGIN:STANDARD
TZOFFSETFROM:-0400
TZOFFSETTO:-0500
TZNAME:EST
DTSTART:20251102T060000
END:STANDARD
END:VTIMEZONE
BEGIN:VEVENT
DTSTART;TZID=America/Detroit:20240412T130000
DTEND;TZID=America/Detroit:20240412T140000
DTSTAMP:20260421T075804
CREATED:20240122T165533Z
LAST-MODIFIED:20240213T161622Z
UID:38005-1712926800-1712930400@wenkegardencenter.com
SUMMARY:Tabletop Terrarium Workshop: 4/12/24 @ 1pm
DESCRIPTION:Join us at Wenke Greenhouses to learn the art of terrarium making! Participants will create their own beautiful tabletop terrarium. Workshop\n\n\nStep into the miniature world of nature with our “Enchanted Ecosystems: Tabletop Terrarium Workshop.” Join us for a hands-on experience where creativity meets greenery\, and you get to craft your own tiny\, thriving ecosystem within the confines of this beautiful glass container. \nIn this workshop\, you’ll learn the art of building and maintaining your own tabletop terrarium\, a self-contained ecosystem that brings the beauty of nature right to your living space. Our facilitators will guide you through the process\, providing insights into the selection of plants\, the arrangement of elements\, and the maintenance needed to keep your terrarium flourishing. The unique glass terrarium stands a little more than 12″ tall with the lid. The workshop includes step-by-step instructions and all the materials you need\, including soil\, moss\, pebbles and a choice of three 3 terrarium plants* to complete your new garden world. \nThis workshop is limited to only 12 participants\, so sign up today to secure your spot. No prior gardening experience is necessary – this workshop is suitable for beginners and green thumbs alike. Join us for a delightful journey into the world of tabletop terrariums and take home your very own piece of nature encapsulated in glass. \n\nPurchase your ticket here https://www.eventbrite.com/e/tabletop-terrarium-workshop-41224-1pm-tickets-777630272077 \n\n  \n*Note: Plant options displayed in photo may not reflect final options available at event. Final product display will vary depending on participants’ final selections and arrangement. \n 
URL:https://wenkegardencenter.com/event/tabletop-terrarium-workshop-4-12-24-1pm/
CATEGORIES:Events and Workshops,Workshops
ATTACH;FMTTYPE=image/png:https://wenkegardencenter.com/wp-content/uploads/2024/01/37982_image.png
END:VEVENT
END:VCALENDAR